BEGIN:VCALENDAR
VERSION:2.0
CALSCALE:GREGORIAN
PRODID:UW-Madison-Physics-Events
BEGIN:VEVENT
SEQUENCE:0
UID:UW-Physics-Event-3274
DTSTART:20140204T180500Z
DURATION:PT1H0M0S
DTSTAMP:20260419T194009Z
LAST-MODIFIED:20140128T182452Z
LOCATION:5280 Chamberlin Hall
SUMMARY:Spectral Line Profile Modeling Under the Action of Dynamic Ele
 ctric and Static Magnetic Fields\, Special Plasma Physics Seminar\, El
 ijah Martin\, North Carolina State University
DESCRIPTION:
URL:https://www.physics.wisc.edu/events/?id=3274
END:VEVENT
END:VCALENDAR
