BEGIN:VCALENDAR
VERSION:2.0
CALSCALE:GREGORIAN
PRODID:UW-Madison-Physics-Events
BEGIN:VEVENT
SEQUENCE:0
UID:UW-Physics-Event-3287
DTSTART:20140225T180500Z
DURATION:PT1H0M0S
DTSTAMP:20260419T193508Z
LAST-MODIFIED:20140206T190757Z
LOCATION:4274 Chamberlin (refreshments will be served)
SUMMARY:Roving the Red Planet:  A field geologist explores gale crater
  on Mars\, Chaos & Complex Systems Seminar\, Rebecca Williams\, Planet
 ary Science Institute
DESCRIPTION:On August 5\, 2012\, NASA's Mars Science Laboratory rover 
 Curiosity landed in northwest Gale Crater.  With the most sophisticate
 d suite of scientific instruments ever employed to investigate the Mar
 tian surface housed within a mini-Cooper-sized rover\, Curiosity has b
 een assessing the character of the ancient environments based on exami
 nation of clues contained within rocks.  In this presentation\, Willia
 ms will discuss why Gale Crater was selected as the landing site\, the
  ingenious 'sky-crane' landing system developed for this mission\, how
  the science team participates in daily operations from their home ins
 titutions\, and science results after one year of surface activities.
URL:https://www.physics.wisc.edu/events/?id=3287
END:VEVENT
END:VCALENDAR
