BEGIN:VCALENDAR
VERSION:2.0
CALSCALE:GREGORIAN
PRODID:UW-Madison-Physics-Events
BEGIN:VEVENT
SEQUENCE:0
UID:UW-Physics-Event-3294
DTSTART:20140422T170500Z
DURATION:PT1H0M0S
DTSTAMP:20260419T193824Z
LAST-MODIFIED:20140415T221104Z
LOCATION:4274 Chamberlin (refreshments will be served)
SUMMARY:Now you see him\, now you don’t — a hitchhiker’s guide t
 o high dimensional data analysis\, Chaos & Complex Systems Seminar\, M
 ing Yuan\, UW Department of Statistics
DESCRIPTION:The analysis of high-dimensional data now commonly arising
  in scientific investigations poses many statistical challenges not pr
 esent in smaller scale studies. In this talk\, I will survey some main
  ideas and problems\, in particular\, in recovering high dimensional s
 parse signals and estimating large matrices -- two classes of problems
  that have attracted much recent interests in a range of fields includ
 ing statistics\, applied math and electrical engineering. Time permitt
 ing\, I will also discuss their implications in other scientific domai
 ns.
URL:https://www.physics.wisc.edu/events/?id=3294
END:VEVENT
END:VCALENDAR
