BEGIN:VCALENDAR
VERSION:2.0
CALSCALE:GREGORIAN
PRODID:UW-Madison-Physics-Events
BEGIN:VEVENT
SEQUENCE:0
UID:UW-Physics-Event-3297
DTSTART:20140214T201500Z
DTEND:20140214T201500Z
DTSTAMP:20260419T212141Z
LAST-MODIFIED:20140209T183351Z
LOCATION:5280  Chamberlin Hall
SUMMARY:Title to be announced\, Theory Seminar (High Energy/Cosmology)
DESCRIPTION:
URL:https://www.physics.wisc.edu/events/?id=3297
END:VEVENT
END:VCALENDAR
