BEGIN:VCALENDAR
VERSION:2.0
CALSCALE:GREGORIAN
PRODID:UW-Madison-Physics-Events
BEGIN:VEVENT
SEQUENCE:0
UID:UW-Physics-Event-3298
DTSTART:20140424T193000Z
DURATION:PT1H0M0S
DTSTAMP:20260419T193851Z
LAST-MODIFIED:20140421T152350Z
LOCATION:5280 Chamberlin
SUMMARY:The Mystery and Promise of Fast Radio Bursts\, NPAC (Nuclear/P
 article/Astro/Cosmo) Forum\, Albert Stebbins\, FermiLab
DESCRIPTION:The newly discovered phenomena of Fast Radio Bursts is dis
 cussed as well as their possible origins. If these bursts originate at
  cosmological distances then they may provide a tool to probe a variet
 y of different phenomena apart from the bursts themselves. This includ
 es neutrino masses\, cosmological distances\, and the intergalactic me
 dium on parsec scales.
URL:https://www.physics.wisc.edu/events/?id=3298
END:VEVENT
END:VCALENDAR
