BEGIN:VCALENDAR
VERSION:2.0
CALSCALE:GREGORIAN
PRODID:UW-Madison-Physics-Events
BEGIN:VEVENT
SEQUENCE:0
UID:UW-Physics-Event-3302
DTSTART:20140221T200000Z
DTEND:20140221T210000Z
DTSTAMP:20260419T193319Z
LAST-MODIFIED:20140210T201928Z
LOCATION:5280 Chamberlin Hall
SUMMARY:A light Higgs boson from a composite Higgs theory\, Theory Sem
 inar (High Energy/Cosmology)\, Hsin-Chia Cheng\, University of Califor
 nia\, Davis
DESCRIPTION:TBA
URL:https://www.physics.wisc.edu/events/?id=3302
END:VEVENT
END:VCALENDAR
