BEGIN:VCALENDAR
VERSION:2.0
CALSCALE:GREGORIAN
PRODID:UW-Madison-Physics-Events
BEGIN:VEVENT
SEQUENCE:0
UID:UW-Physics-Event-3306
DTSTART:20140314T190000Z
DURATION:PT1H0M0S
DTSTAMP:20260419T193827Z
LAST-MODIFIED:20140312T174803Z
LOCATION:5280 Chamberlin Hall
SUMMARY:Dark Matter: The Lepton Connection\, Theory Seminar (High Ener
 gy/Cosmology)\, Prateek Agrawa\, Fermi National Accelerator Laboratory
DESCRIPTION:I will present models where the dominant coupling of dark 
 matter is with the Standard Model leptons\, and the interactions with 
 quarks only arise at one-loop level. These models give rise to novel p
 henomenology. In particular\, I will show the corrections to the muon 
 magnetic moment in the context of a set of simplified models\, and com
 pare the resulting constraints with those from direct detection and co
 llider experiments. While these constraints are generally severe\, I w
 ill highlight the limited regions of parameter space where the muon ma
 gnetic moment anomaly can be consistently explained by leptophilic dar
 k matter.
URL:https://www.physics.wisc.edu/events/?id=3306
END:VEVENT
END:VCALENDAR
