BEGIN:VCALENDAR
VERSION:2.0
CALSCALE:GREGORIAN
PRODID:UW-Madison-Physics-Events
BEGIN:VEVENT
SEQUENCE:0
UID:UW-Physics-Event-3310
DTSTART:20140219T170000Z
DURATION:PT1H0M0S
DTSTAMP:20260419T193509Z
LAST-MODIFIED:20140214T232933Z
LOCATION:5310 Chamberlin Hall
SUMMARY:Undergraduate research: Garage Physics independent projects an
 d ECE379 and Innovations in Physics 103 this Semester\, Physics Educat
 ion Innovation Forum
DESCRIPTION:
URL:https://www.physics.wisc.edu/events/?id=3310
END:VEVENT
END:VCALENDAR
