BEGIN:VCALENDAR
VERSION:2.0
CALSCALE:GREGORIAN
PRODID:UW-Madison-Physics-Events
BEGIN:VEVENT
SEQUENCE:0
UID:UW-Physics-Event-3311
DTSTART:20140402T160000Z
DURATION:PT1H0M0S
DTSTAMP:20260419T193542Z
LAST-MODIFIED:20140331T131403Z
LOCATION:5310 Chamberlin Hall
SUMMARY:Flexible Physics Mobile videos: Physics 109\, 103-4\, 201-2\, 
 and 207-8 on Youtube and  Turning a Large Lecture into a Blended Class
 room: First Results from Physics 207\, Physics Education Innovation Fo
 rum
DESCRIPTION:Flexible Physics Mobile videos: <br>\nPhysics 109\, 103-4
 \, 201-2\, and 207-8 on Youtube <br>\n(Duncan Carlsmith)<br>\nand<br
 >\nTurning a Large Lecture into a Blended Classroom: <br>\nFirst Res
 ults from Physics 207 <br>\n(Peter Timbie\, Jake Feintzeig\, and Josh
  Weber)
URL:https://www.physics.wisc.edu/events/?id=3311
END:VEVENT
END:VCALENDAR
