BEGIN:VCALENDAR
VERSION:2.0
CALSCALE:GREGORIAN
PRODID:UW-Madison-Physics-Events
BEGIN:VEVENT
SEQUENCE:0
UID:UW-Physics-Event-3312
DTSTART:20140430T160000Z
DURATION:PT1H0M0S
DTSTAMP:20260419T211856Z
LAST-MODIFIED:20140418T200915Z
LOCATION:5310 Chamberlin Hall
SUMMARY:Social Bookmarking II and new Collaborative Learning Spaces: E
 xperiments in Physics 241 and 207 (Kyriaki Chatzikyriakidou)\;  Learni
 ng Assistants in Introductory Physics Courses (Bethany Reilly)\, Physi
 cs Education Innovation Forum
DESCRIPTION:Social Bookmarking II and new Collaborative Learning Space
 s: Experiments in Physics 241 and 207 (Kyriaki Chatzikyriakidou)\;  Le
 arning Assistants in Introductory Physics Courses (Bethany Reilly)
URL:https://www.physics.wisc.edu/events/?id=3312
END:VEVENT
END:VCALENDAR
