BEGIN:VCALENDAR
VERSION:2.0
CALSCALE:GREGORIAN
PRODID:UW-Madison-Physics-Events
BEGIN:VEVENT
SEQUENCE:0
UID:UW-Physics-Event-3315
DTSTART:20140303T180000Z
DTEND:20140303T190000Z
DTSTAMP:20260419T193836Z
LAST-MODIFIED:20140219T192826Z
LOCATION:2241 Chamberlin
SUMMARY:Recent Highlights in Low Temperature Plasmas\, Plasma Physics 
 (Physics/ECE/NE 922) Seminar\, Mark Kushner\, University of Michigan
DESCRIPTION:
URL:https://www.physics.wisc.edu/events/?id=3315
END:VEVENT
END:VCALENDAR
