BEGIN:VCALENDAR
VERSION:2.0
CALSCALE:GREGORIAN
PRODID:UW-Madison-Physics-Events
BEGIN:VEVENT
SEQUENCE:0
UID:UW-Physics-Event-3316
DTSTART:20140331T170000Z
DTEND:20140331T180000Z
DTSTAMP:20260419T193437Z
LAST-MODIFIED:20140219T193127Z
LOCATION:2241 Chamberlin
SUMMARY:Exploring Boundary Plasma and PMI Research at MIT with New Dia
 gnostics and Experiments\, Plasma Physics (Physics/ECE/NE 922) Seminar
 \, Dennis Whyte\, Massachusetts Institute of Technology
DESCRIPTION:
URL:https://www.physics.wisc.edu/events/?id=3316
END:VEVENT
END:VCALENDAR
