BEGIN:VCALENDAR
VERSION:2.0
CALSCALE:GREGORIAN
PRODID:UW-Madison-Physics-Events
BEGIN:VEVENT
SEQUENCE:0
UID:UW-Physics-Event-3318
DTSTART:20140414T170000Z
DURATION:PT1H0M0S
DTSTAMP:20260419T193547Z
LAST-MODIFIED:20140508T155714Z
LOCATION:2241 Chamberlin
SUMMARY:Study of magnetic reconnection in the fluid regime: The variet
 y of environments and outcomes\, Plasma Physics (Physics/ECE/NE 922) S
 eminar\, Dr. Vyacheslav Lukin\, Naval Research  > Laboratory\, Washing
 ton\, DC
DESCRIPTION:
URL:https://www.physics.wisc.edu/events/?id=3318
END:VEVENT
END:VCALENDAR
