BEGIN:VCALENDAR
VERSION:2.0
CALSCALE:GREGORIAN
PRODID:UW-Madison-Physics-Events
BEGIN:VEVENT
SEQUENCE:0
UID:UW-Physics-Event-3319
DTSTART:20140421T170000Z
DURATION:PT1H0M0S
DTSTAMP:20260419T193826Z
LAST-MODIFIED:20140418T201031Z
LOCATION:2241 Chamberlin
SUMMARY:Pressure Anisotropy in Reconnection\, Plasma Physics (Physics/
 ECE/NE 922) Seminar\, Paul Cassak\, West Virginia University
DESCRIPTION:
URL:https://www.physics.wisc.edu/events/?id=3319
END:VEVENT
END:VCALENDAR
