BEGIN:VCALENDAR
VERSION:2.0
CALSCALE:GREGORIAN
PRODID:UW-Madison-Physics-Events
BEGIN:VEVENT
SEQUENCE:0
UID:UW-Physics-Event-3327
DTSTART:20140313T210000Z
DURATION:PT1H0M0S
DTSTAMP:20260419T193653Z
LAST-MODIFIED:20140310T133620Z
LOCATION:4274 Chamberlin Hall
SUMMARY:Quantum control of interactions between spin and photons in se
 miconductor quantum dot\, Faculty Candidate Seminar\, Wei-bo Gao\, Ins
 titute of Quantum Electronics - ETH Zurich
DESCRIPTION:Optically active quantum dot represents a unique quantum s
 ystem that combines solid state spin qubits with coherent optical tran
 sitions. It performs as a natural link between the study of nanoscienc
 e\, atomic quantum optics and quantum information. Particularly in the
  frame of quantum information\, my talk will focus on the optical mani
 pulation of a quantum dot spin. Based on that\, I will report the crea
 tion of entanglement between a flying photon and a semiconductor quant
 um dot spin\, acting as a key step towards a quantum network with node
 s consisting of semiconductor spin qubits. In the end\, I will make a 
 prospect and talk about where we stand in the quantum information appl
 ication with optically active quantum dot. 
URL:https://www.physics.wisc.edu/events/?id=3327
END:VEVENT
END:VCALENDAR
