BEGIN:VCALENDAR
VERSION:2.0
CALSCALE:GREGORIAN
PRODID:UW-Madison-Physics-Events
BEGIN:VEVENT
SEQUENCE:0
UID:UW-Physics-Event-3340
DTSTART:20141114T213000Z
DTEND:20141114T103000Z
DTSTAMP:20260419T161350Z
LAST-MODIFIED:20141104T162548Z
LOCATION:2241 Chamberlin Hall (coffee at 4:30 pm)
SUMMARY:Neutrinos... Going International:  Towards a New Understanding
  of the Quantum Universe\, Physics Department Colloquium\, Dr. Nigel L
 ockyer\, Director\, Fermi National Accelerator Laboratory
DESCRIPTION:Neutrinos are the most numerous massive particles in the u
 niverse. The masses are tiny and unknown\, which neutrino is heaviest 
 is unknown\, and whether the neutrino is a Majorana particle is unknow
 n. We do not know how the Higgs field provides mass to the neutrino. I
 ndeed\, the complete chapter on mass and fermion family patterns has y
 et to be written and at the heart of this discussion is the ubiquitous
  neutrino. Neutrino masses influence the cosmic microwave background p
 olarization. Neutrinos are a possible source of CP violation in the un
 iverse that may play a role in generating the matter excess in the uni
 verse. Each of these questions is developing as one of the main quests
  in particle physics throughout the world. As Fermilab develops its pl
 an for the next two decades with partners around the world\, the neutr
 ino will be front and center. 
URL:https://www.physics.wisc.edu/events/?id=3340
END:VEVENT
END:VCALENDAR
