BEGIN:VCALENDAR
VERSION:2.0
CALSCALE:GREGORIAN
PRODID:UW-Madison-Physics-Events
BEGIN:VEVENT
SEQUENCE:0
UID:UW-Physics-Event-3348
DTSTART:20140415T190000Z
DTEND:20140415T200000Z
DTSTAMP:20260419T193323Z
LAST-MODIFIED:20140410T201759Z
LOCATION:5280 Chamberlin
SUMMARY:Boundaries and Defects of N=4 Supersymmetric Yang Mills with 4
  Supercharges\, Theory Seminar (High Energy/Cosmology)\, Peter Ouyang\
 , Purdue
DESCRIPTION:
URL:https://www.physics.wisc.edu/events/?id=3348
END:VEVENT
END:VCALENDAR
