BEGIN:VCALENDAR
VERSION:2.0
CALSCALE:GREGORIAN
PRODID:UW-Madison-Physics-Events
BEGIN:VEVENT
SEQUENCE:0
UID:UW-Physics-Event-3353
DTSTART:20140506T170500Z
DTEND:20140506T180000Z
DTSTAMP:20260419T190027Z
LAST-MODIFIED:20140422T163836Z
LOCATION:4274 Chamberlin (refreshments will be served)
SUMMARY:Twentieth Anniversary Celebration\, Chaos & Complex Systems Se
 minar\, Robin Chapman\, UW Department of Communicative Disorders
DESCRIPTION:We will celebrate the 20th anniversary of this weekly semi
 nar with a look at the questions asked across the years and the questi
 ons that the audience wants to see answered now. What have we learned\
 , and what's next? Bring your thoughts! The webpage contains abstracts
  of the twenty years of talks.
URL:https://www.physics.wisc.edu/events/?id=3353
END:VEVENT
END:VCALENDAR
