BEGIN:VCALENDAR
VERSION:2.0
CALSCALE:GREGORIAN
PRODID:UW-Madison-Physics-Events
BEGIN:VEVENT
SEQUENCE:0
UID:UW-Physics-Event-3356
DTSTART:20140516T220000Z
DTEND:20140516T233000Z
DTSTAMP:20260419T190042Z
LAST-MODIFIED:20140506T131850Z
LOCATION:2241 Chamberlin Hall
SUMMARY:Undergraduate Majors Reception\, Department of Physics\, Depar
 tment of Physics
DESCRIPTION:The department will be having reception for the undergradu
 ate majors in Physics and their parents. Please RSVP if you plan to at
 tend the event.<br>\n<br>\nPlease RSVP at:<br>\nhttps://www.physics
 .wisc.edu/GraduationRecognitionRSVP2014 
URL:https://www.physics.wisc.edu/events/?id=3356
END:VEVENT
END:VCALENDAR
