BEGIN:VCALENDAR
VERSION:2.0
CALSCALE:GREGORIAN
PRODID:UW-Madison-Physics-Events
BEGIN:VEVENT
SEQUENCE:0
UID:UW-Physics-Event-3367
DTSTART:20140917T171500Z
DURATION:PT1H0M0S
DTSTAMP:20260419T161338Z
LAST-MODIFIED:20140915T130224Z
LOCATION:5310 Chamberlin Hall
SUMMARY:Department Meeting
DESCRIPTION:
URL:https://www.physics.wisc.edu/events/?id=3367
END:VEVENT
END:VCALENDAR
