BEGIN:VCALENDAR
VERSION:2.0
CALSCALE:GREGORIAN
PRODID:UW-Madison-Physics-Events
BEGIN:VEVENT
SEQUENCE:0
UID:UW-Physics-Event-3371
DTSTART:20141112T181500Z
DURATION:PT1H0M0S
DTSTAMP:20260419T161246Z
LAST-MODIFIED:20140707T155635Z
LOCATION:5310 Chamberlin Hall
SUMMARY:Department Meeting
DESCRIPTION:
URL:https://www.physics.wisc.edu/events/?id=3371
END:VEVENT
END:VCALENDAR
