BEGIN:VCALENDAR
VERSION:2.0
CALSCALE:GREGORIAN
PRODID:UW-Madison-Physics-Events
BEGIN:VEVENT
SEQUENCE:0
UID:UW-Physics-Event-3380
DTSTART:20141003T163000Z
DURATION:PT1H0M0S
DTSTAMP:20260419T171701Z
LAST-MODIFIED:20140925T185041Z
LOCATION:5280 Chamberlin
SUMMARY:The nonexistence of the eternal black hole\, Theory Seminar (H
 igh Energy/Cosmology)\, Samir Mathur\, Ohio State
DESCRIPTION:
URL:https://www.physics.wisc.edu/events/?id=3380
END:VEVENT
END:VCALENDAR
