BEGIN:VCALENDAR
VERSION:2.0
CALSCALE:GREGORIAN
PRODID:UW-Madison-Physics-Events
BEGIN:VEVENT
SEQUENCE:0
UID:UW-Physics-Event-3390
DTSTART:20141110T220000Z
DURATION:PT1H0M0S
DTSTAMP:20260419T161245Z
LAST-MODIFIED:20140718T143536Z
LOCATION:2314 Chamberlin (Chair's Conference Room)
SUMMARY:Council Meeting
DESCRIPTION:
URL:https://www.physics.wisc.edu/events/?id=3390
END:VEVENT
END:VCALENDAR
