BEGIN:VCALENDAR
VERSION:2.0
CALSCALE:GREGORIAN
PRODID:UW-Madison-Physics-Events
BEGIN:VEVENT
SEQUENCE:0
UID:UW-Physics-Event-3392
DTSTART:20141208T220000Z
DURATION:PT1H0M0S
DTSTAMP:20260419T161338Z
LAST-MODIFIED:20140718T143606Z
LOCATION:2314 Chamberlin (Chair's Conference Room)
SUMMARY:Council Meeting
DESCRIPTION:
URL:https://www.physics.wisc.edu/events/?id=3392
END:VEVENT
END:VCALENDAR
