BEGIN:VCALENDAR
VERSION:2.0
CALSCALE:GREGORIAN
PRODID:UW-Madison-Physics-Events
BEGIN:VEVENT
SEQUENCE:0
UID:UW-Physics-Event-3416
DTSTART:20141016T213000Z
DTEND:20141016T223000Z
DTSTAMP:20260419T172128Z
LAST-MODIFIED:20140818T193648Z
LOCATION:5280 Chamberlin Hall
SUMMARY:Biophysics \, Graduate Introductory Seminar\, Coppersmith\, Gi
 lbert
DESCRIPTION:
URL:https://www.physics.wisc.edu/events/?id=3416
END:VEVENT
END:VCALENDAR
