BEGIN:VCALENDAR
VERSION:2.0
CALSCALE:GREGORIAN
PRODID:UW-Madison-Physics-Events
BEGIN:VEVENT
SEQUENCE:0
UID:UW-Physics-Event-3417
DTSTART:20141023T213000Z
DTEND:20141023T223000Z
DTSTAMP:20260419T161648Z
LAST-MODIFIED:20140818T193733Z
LOCATION:5280 Chamberlin Hall
SUMMARY:Astrophysics\, Graduate Introductory Seminar\, McCammon\, Timb
 ie
DESCRIPTION:
URL:https://www.physics.wisc.edu/events/?id=3417
END:VEVENT
END:VCALENDAR
