BEGIN:VCALENDAR
VERSION:2.0
CALSCALE:GREGORIAN
PRODID:UW-Madison-Physics-Events
BEGIN:VEVENT
SEQUENCE:0
UID:UW-Physics-Event-3420
DTSTART:20141113T223000Z
DTEND:20141113T233000Z
DTSTAMP:20260419T171951Z
LAST-MODIFIED:20140818T194210Z
LOCATION:5280 Chamberlin Hall 
SUMMARY:Nuclear Physics and Astrophysics \, Graduate Introductory Semi
 nar\, Balantekin
DESCRIPTION:
URL:https://www.physics.wisc.edu/events/?id=3420
END:VEVENT
END:VCALENDAR
