BEGIN:VCALENDAR
VERSION:2.0
CALSCALE:GREGORIAN
PRODID:UW-Madison-Physics-Events
BEGIN:VEVENT
SEQUENCE:0
UID:UW-Physics-Event-3421
DTSTART:20141120T223000Z
DTEND:20141120T233000Z
DTSTAMP:20260419T161449Z
LAST-MODIFIED:20140820T130007Z
LOCATION:5280 Chamberlin Hal
SUMMARY:High Energy Experiment\, Graduate Introductory Seminar\, Carls
 mith\, Dasu\, Herndon\, Smith\, Wu
DESCRIPTION:
URL:https://www.physics.wisc.edu/events/?id=3421
END:VEVENT
END:VCALENDAR
