BEGIN:VCALENDAR
VERSION:2.0
CALSCALE:GREGORIAN
PRODID:UW-Madison-Physics-Events
BEGIN:VEVENT
SEQUENCE:0
UID:UW-Physics-Event-3425
DTSTART:20140902T170500Z
DTEND:20140902T180000Z
DTSTAMP:20260419T161657Z
LAST-MODIFIED:20140828T220531Z
LOCATION:4274 Chamberlin Hall (Refreshments will be served)
SUMMARY:Writing a novel\, Chaos & Complex Systems Seminar\, Russell Ga
 rdner\, Jr.\, Freelance scholar after psychiatry career without presen
 t institutional affiliation
DESCRIPTION:Many people write novels. For example\, I find many column
 s of the New York Times seem to have writers as intended readership  (
 or those who wish to write). My own focus started suddenly on a late n
 ight near the end of February\, 2012. In O’Hare Airport\, standing o
 n the tarmac I suddenly decided to include myself amongst the group\, 
 and from that moment began. I tell how this happened\, and how I have 
 tried to attain compositional skills in fiction\, including lessons fr
 om books\, conversations and trial runs\, and now formal courses spons
 ored by the Madison Writers Studio taught by two novelists (MadisonWri
 ters.com). At the time of this abstract\, I am half through a year-lon
 g course entitled “Novel in a Year.” It involves writing 25-pages 
 per month (in my case\, sequential chapters) to accumulate by year’s
  end in a first draft. The structure itself has helped me. Previously 
 I’ve felt stymied with lengthy prose of any kind\, and suspect that 
 it will stand me in good stead for efforts in the future.<br>\n<br>\
 nIn this presentation I plan to relate:<br>\n<br>\n    How the proce
 ss began for me\,<br>\n    Fixed narrative features\, roles of chance
  and imagination\, "what's next?"<br>\n    Characters\, plot\, and 
 center” or “novelist’s mysterious question\,”<br>\n    “No
 vel novel” vs “Old novel\,”<br>\n    Social relations in writin
 g process\, and<br>\n    Fiction-writing vis-à-vis psychoanalysis.<b
 r>\n<br>\n
URL:https://www.physics.wisc.edu/events/?id=3425
END:VEVENT
END:VCALENDAR
