BEGIN:VCALENDAR
VERSION:2.0
CALSCALE:GREGORIAN
PRODID:UW-Madison-Physics-Events
BEGIN:VEVENT
SEQUENCE:0
UID:UW-Physics-Event-3431
DTSTART:20140902T210000Z
DTEND:20140902T220000Z
DTSTAMP:20260419T161619Z
LAST-MODIFIED:20140902T123225Z
LOCATION:5280 Chamberlin Hall
SUMMARY:Cosmology from the megaparsec to the micron\, Theory Seminar (
 High Energy/Cosmology)\, Amol Upadhye\, University of Wisconsin-Madiso
 n
DESCRIPTION:
URL:https://www.physics.wisc.edu/events/?id=3431
END:VEVENT
END:VCALENDAR
