BEGIN:VCALENDAR
VERSION:2.0
CALSCALE:GREGORIAN
PRODID:UW-Madison-Physics-Events
BEGIN:VEVENT
SEQUENCE:0
UID:UW-Physics-Event-3434
DTSTART:20140908T210000Z
DTEND:20140908T220000Z
DTSTAMP:20260419T161612Z
LAST-MODIFIED:20140904T185127Z
LOCATION:514 ERB
SUMMARY:A parametric study of extended MHD effects on interchange mode
 s in spheromak equilibria\, Plasma Physics (Physics/ECE/NE 922) Semina
 r\, Eric Howell\, University of Wisconsin Madison
DESCRIPTION:
URL:https://www.physics.wisc.edu/events/?id=3434
END:VEVENT
END:VCALENDAR
