BEGIN:VCALENDAR
VERSION:2.0
CALSCALE:GREGORIAN
PRODID:UW-Madison-Physics-Events
BEGIN:VEVENT
SEQUENCE:0
UID:UW-Physics-Event-3435
DTSTART:20141216T160000Z
DURATION:PT1H0M0S
DTSTAMP:20260419T161607Z
LAST-MODIFIED:20141212T145707Z
LOCATION:5310 Chamberlin Hall
SUMMARY:Extending the quantum domain with quantum optics \, R. G. Herb
  Condensed Matter Seminar\, Christoph Simon\, University of Calgary
DESCRIPTION:Quantum optical systems are well suited for pushing the bo
 undaries of quantum physics. Two big goals in this context are the cre
 ation of entanglement over long distances and the observation of quant
 um effects on macroscopic scales. I will describe various theoretical 
 and some experimental work in these directions. In particular I am pla
 nning to discuss quantum repeaters with multimode quantum memories\, t
 he potential for global entanglement using satellite links and repeate
 rs\, work towards the quantum non-demolition detection of photonic qub
 its in rare-earth doped crystals\, ideas on photon-photon gates based 
 on Rydberg states\, an experiment creating micro-macro entanglement of
  light\, and a proposal for spin cat states in Bose-Einstein condensat
 es.
URL:https://www.physics.wisc.edu/events/?id=3435
END:VEVENT
END:VCALENDAR
