BEGIN:VCALENDAR
VERSION:2.0
CALSCALE:GREGORIAN
PRODID:UW-Madison-Physics-Events
BEGIN:VEVENT
SEQUENCE:0
UID:UW-Physics-Event-3442
DTSTART:20140911T193000Z
DTEND:20140911T203000Z
DTSTAMP:20260419T161339Z
LAST-MODIFIED:20140915T170938Z
LOCATION:5280 Chamberlin
SUMMARY:Studying Atmospheric Neutrino Oscillation at PINGU\, NPAC (Nuc
 lear/Particle/Astro/Cosmo) Forum\, Kaoru Hagiwara\, KEK
DESCRIPTION:<br><b>Slides:</b> [<a href=/twap/slides/3442.pdf>PDF</a>]
URL:https://www.physics.wisc.edu/events/?id=3442
END:VEVENT
END:VCALENDAR
