BEGIN:VCALENDAR
VERSION:2.0
CALSCALE:GREGORIAN
PRODID:UW-Madison-Physics-Events
BEGIN:VEVENT
SEQUENCE:0
UID:UW-Physics-Event-3443
DTSTART:20140930T200000Z
DTEND:20140930T210000Z
DTSTAMP:20260419T161251Z
LAST-MODIFIED:20140926T185839Z
LOCATION:5280 Chamberlin Hall
SUMMARY:Hidden GeV-scale interactions of quarks and dark matter \, The
 ory Seminar (High Energy/Cosmology)\, Claudia Frugiuele
DESCRIPTION:I will discuss the discovery prospect of light dark matter
  with the  NOVA near detector at Fermilab. I will give first an overvi
 ew on the current bounds on the quarks-light dark matter interaction a
 nd I will then explain why neutrino experiments can improve these boun
 ds. Finally I  will focus on the NOVA experiment discussing  possible 
 models and parameter space potentially constrained by this experiment.
URL:https://www.physics.wisc.edu/events/?id=3443
END:VEVENT
END:VCALENDAR
