BEGIN:VCALENDAR
VERSION:2.0
CALSCALE:GREGORIAN
PRODID:UW-Madison-Physics-Events
BEGIN:VEVENT
SEQUENCE:0
UID:UW-Physics-Event-3446
DTSTART:20141021T200000Z
DTEND:20141021T210000Z
DTSTAMP:20260419T161648Z
LAST-MODIFIED:20141020T144805Z
LOCATION:5280 Chamberlin Hall
SUMMARY:Hunting SUSY Particles in Compressed Spectra\, Theory Seminar 
 (High Energy/Cosmology)\, Zhenyu Han
DESCRIPTION:Light supersymmetric particles may be hidden in the LHC da
 ta when the mass spectra are compressed. In this talk\, I will discuss
  strategies for searching SUSY particles with quasi-degenerate masses\
 , focusing on Higgsino pair production and slepton pair production.
URL:https://www.physics.wisc.edu/events/?id=3446
END:VEVENT
END:VCALENDAR
