BEGIN:VCALENDAR
VERSION:2.0
CALSCALE:GREGORIAN
PRODID:UW-Madison-Physics-Events
BEGIN:VEVENT
SEQUENCE:0
UID:UW-Physics-Event-3470
DTSTART:20140922T170000Z
DTEND:20140922T180000Z
DTSTAMP:20260419T172105Z
LAST-MODIFIED:20140911T180614Z
LOCATION:2255 Engineering Hall
SUMMARY:Kinetic-fluid hybrid simulation of energetic particle interact
 ion with MHD instabilities in toroidal plasmas\, Plasma Physics (Physi
 cs/ECE/NE 922) Seminar\, Guo-Yong Fu\, Princeton Plasma Physics Labora
 tory
DESCRIPTION:
URL:https://www.physics.wisc.edu/events/?id=3470
END:VEVENT
END:VCALENDAR
