BEGIN:VCALENDAR
VERSION:2.0
CALSCALE:GREGORIAN
PRODID:UW-Madison-Physics-Events
BEGIN:VEVENT
SEQUENCE:0
UID:UW-Physics-Event-3472
DTSTART:20140918T220000Z
DTEND:20140918T233000Z
DTSTAMP:20260419T172108Z
LAST-MODIFIED:20140913T142625Z
LOCATION:B613 Sterling
SUMMARY:Garage Physics Kickoff\, Duncan Carlsmith\, UW - Madison
DESCRIPTION:Garage Physics is a flexible space for innovative student-
 focused research\, education\, and entrepreneurship. 
URL:https://www.physics.wisc.edu/events/?id=3472
END:VEVENT
END:VCALENDAR
