BEGIN:VCALENDAR
VERSION:2.0
CALSCALE:GREGORIAN
PRODID:UW-Madison-Physics-Events
BEGIN:VEVENT
SEQUENCE:0
UID:UW-Physics-Event-3487
DTSTART:20141111T180500Z
DTEND:20141111T190000Z
DTSTAMP:20260419T161606Z
LAST-MODIFIED:20140925T062701Z
LOCATION:4274 Chamberlin Hall (Refreshments will be served)
SUMMARY:The narrative structure of the default mode network and REM dr
 eaming\, Chaos & Complex Systems Seminar\, Art Schmaltz\, Prairie Stat
 e College
DESCRIPTION:This presentation will build upon the structural architect
 ure of the default mode network outlined here by Deric Bownds on Septe
 mber 9th. My focus will be on the functional aspects of the human brai
 n's default mode network.<br>\n<br>\n    I will argue that the defau
 lt mode network is an evolved brain system with adaptive functions.<br
 >\n    The default mode network and REM dreaming-- both "hard wired" 
 brain systems-- are complementary and work in concert with each other.
 <br>\n    Both systems are intrinsically intersubjective and variatio
 nal praxis orientated.<br>\n    Both systems create new narratives\, 
 or novel behavioral scripts: an ongoing eco-hermeneutics for optimal a
 daptation to ever shifting environments.
URL:https://www.physics.wisc.edu/events/?id=3487
END:VEVENT
END:VCALENDAR
