BEGIN:VCALENDAR
VERSION:2.0
CALSCALE:GREGORIAN
PRODID:UW-Madison-Physics-Events
BEGIN:VEVENT
SEQUENCE:0
UID:UW-Physics-Event-3491
DTSTART:20141007T003000Z
DTEND:20141007T013000Z
DTSTAMP:20260419T161928Z
LAST-MODIFIED:20140929T160507Z
LOCATION:Union South Marquee Theater
SUMMARY:Bringing the Universe to Wisconsin presents "Chasing the Ghost
  Particle" \, Outreach event: movie show
DESCRIPTION:Celebrate the successful completion of the “Bringing the
  Universe to Wisconsin” public event series. All 26 campuses and com
 munities in the UW system were visited by members of the Wisconsin Ice
 Cube Particle Astrophysics Center\, WIPAC. The generous support from t
 he Ira and Ineva Reilly Baldwin Wisconsin Idea Endowment enabled citiz
 ens to hear firsthand from WIPAC scientists\, engineers\, IT professio
 nals\, staff\, and students about new ways of viewing the Universe.
URL:https://www.physics.wisc.edu/events/?id=3491
END:VEVENT
END:VCALENDAR
