BEGIN:VCALENDAR
VERSION:2.0
CALSCALE:GREGORIAN
PRODID:UW-Madison-Physics-Events
BEGIN:VEVENT
SEQUENCE:0
UID:UW-Physics-Event-3492
DTSTART:20140417T203000Z
DTEND:20140417T213000Z
DTSTAMP:20260419T225529Z
LAST-MODIFIED:20141001T182708Z
LOCATION:2241 Chamberlin Hall (coffee at 4:30 pm)
SUMMARY:TBA\, Physics Department Colloquium\, Michel Gringas\, Univers
 ity of Waterloo
DESCRIPTION:TBA
URL:https://www.physics.wisc.edu/events/?id=3492
END:VEVENT
END:VCALENDAR
