BEGIN:VCALENDAR
VERSION:2.0
CALSCALE:GREGORIAN
PRODID:UW-Madison-Physics-Events
BEGIN:VEVENT
SEQUENCE:0
UID:UW-Physics-Event-3494
DTSTART:20141022T170000Z
DTEND:20141022T180000Z
DTSTAMP:20260419T161621Z
LAST-MODIFIED:20141002T152156Z
LOCATION:B613 Sterling Hall 
SUMMARY:Garage Physics going-forward\, Physics Education Innovation Fo
 rum\, Carlsmith\, UW-Madison
DESCRIPTION:Garage Physics is an open lab for innovation and entrepren
 eurship. Progress in Garage Physics during 2013-14 will be presented. 
 A new Venturewell undergraduate grant competition\, honors and URS stu
 dent projects\, and future plans and needs will be discussed.
URL:https://www.physics.wisc.edu/events/?id=3494
END:VEVENT
END:VCALENDAR
