BEGIN:VCALENDAR
VERSION:2.0
CALSCALE:GREGORIAN
PRODID:UW-Madison-Physics-Events
BEGIN:VEVENT
SEQUENCE:0
UID:UW-Physics-Event-3502
DTSTART:20141020T170000Z
DTEND:20141020T180000Z
DTSTAMP:20260419T161449Z
LAST-MODIFIED:20141020T145032Z
LOCATION:2535 Engineering Hall
SUMMARY:Impact of the plasma response in three-dimensional edge plasma
  transport modelling for RMP ELM control scenarios at ITER and Compari
 son of Measurements of Profile Stiffness in HSX to Nonlinear Gyrokin\,
  Plasma Physics (Physics/ECE/NE 922) Seminar\, Oliver Schmitz and Gavi
 n Weir\, UW- Madison
DESCRIPTION:Abstracts: \nhttp://www.cptc.wisc.edu/reports/Oliver-Schm
 itz_and_Gavin-Weir_abstracts_Oct20_2014.pdf\n
URL:https://www.physics.wisc.edu/events/?id=3502
END:VEVENT
END:VCALENDAR
