BEGIN:VCALENDAR
VERSION:2.0
CALSCALE:GREGORIAN
PRODID:UW-Madison-Physics-Events
BEGIN:VEVENT
SEQUENCE:0
UID:UW-Physics-Event-3513
DTSTART:20141031T190000Z
DTEND:20141031T200000Z
DTSTAMP:20260419T161625Z
LAST-MODIFIED:20141022T132610Z
LOCATION:5280 Chamberlin
SUMMARY:Evaluating the Thermal WIMP Paradigm in the Light of Anomalies
  in 2014\, Theory Seminar (High Energy/Cosmology)\, Kuver Sinha\, Syra
 cuse University
DESCRIPTION:I'll look back at some of the anomalies we have seen this 
 year: the "dark matter keV line"\, the mild\, persistent evidence for 
 dark radiation\, and the niggling excesses in the charged lepton + jet
 s (leptoquark search) and dilepton (SUSY search) final states at the L
 HC. I'll discuss prospects for the thermal WIMP paradigm in the light 
 of these anomalies. I'll also discuss the fast-disappearing BICEP anom
 aly\, and whether future polarization experiments will be able to give
  us\, ​unambiguously\, the scale of inflation. 
URL:https://www.physics.wisc.edu/events/?id=3513
END:VEVENT
END:VCALENDAR
