BEGIN:VCALENDAR
VERSION:2.0
CALSCALE:GREGORIAN
PRODID:UW-Madison-Physics-Events
BEGIN:VEVENT
SEQUENCE:0
UID:UW-Physics-Event-3516
DTSTART:20141030T203000Z
DTEND:20141030T100000Z
DTSTAMP:20260419T172104Z
LAST-MODIFIED:20141028T171244Z
LOCATION:4421 Sterling Hall
SUMMARY:The Future of Age: How asteroseismology reveals fundamental pr
 operties of Stars like out Sun\, Astronomy Colloquium\, David Soderblo
 m\, Space Telescope Science Institution
DESCRIPTION:Some day fairly soon we can hope to hear an announcement o
 f the signs of life on a planet around another star\, and when that ha
 ppens\, our first question will be “How old is that star?” because
  we will want to place such a discovery in an evolutionary context.But
  stars do not reveal their ages to us in any direct way and we are lef
 t trying to use secondary indicators such as rotation or activity. Ast
 eroseismology offers a real breakthrough in determining stellar ages\,
  particularly for older solar-type stars\, and the oscillations  detec
 ted by Kepler have been especially critical because of their quality a
 nd number. In this talk I will present a framework for understanding t
 he problem of stellar age estimation\, the limitations encountered wit
 h conventional (pre-seismology) methods\, how asteroseismology provide
 s constraints on key physical parameters of stars\, and what limitatio
 ns still exist in the problem of estimating stellar ages.<br>\n
URL:https://www.physics.wisc.edu/events/?id=3516
END:VEVENT
END:VCALENDAR
