BEGIN:VCALENDAR
VERSION:2.0
CALSCALE:GREGORIAN
PRODID:UW-Madison-Physics-Events
BEGIN:VEVENT
SEQUENCE:0
UID:UW-Physics-Event-3520
DTSTART:20141103T180000Z
DTEND:20141103T190000Z
DTSTAMP:20260419T161516Z
LAST-MODIFIED:20141103T154522Z
LOCATION:2535 Engineering Hall
SUMMARY:Metamaterial-enhanced resistive wall amplifiers\, Plasma Physi
 cs (Physics/ECE/NE 922) Seminar\, Tyler Rowe\, UW ECE
DESCRIPTION:
URL:https://www.physics.wisc.edu/events/?id=3520
END:VEVENT
END:VCALENDAR
