BEGIN:VCALENDAR
VERSION:2.0
CALSCALE:GREGORIAN
PRODID:UW-Madison-Physics-Events
BEGIN:VEVENT
SEQUENCE:0
UID:UW-Physics-Event-3524
DTSTART:20141113T210000Z
DTEND:20141113T220000Z
DTSTAMP:20260419T161610Z
LAST-MODIFIED:20141113T153530Z
LOCATION:5280 Chamberlin Hall
SUMMARY:Atmospheric Neutrinos\, NPAC (Nuclear/Particle/Astro/Cosmo) Fo
 rum\, Professor Tom Gaisser\, University of Delaware
DESCRIPTION:
URL:https://www.physics.wisc.edu/events/?id=3524
END:VEVENT
END:VCALENDAR
