BEGIN:VCALENDAR
VERSION:2.0
CALSCALE:GREGORIAN
PRODID:UW-Madison-Physics-Events
BEGIN:VEVENT
SEQUENCE:0
UID:UW-Physics-Event-3528
DTSTART:20141117T180000Z
DTEND:20141117T190000Z
DTSTAMP:20260419T172053Z
LAST-MODIFIED:20141113T170611Z
LOCATION:2535 Engineering Hall
SUMMARY:Control of 3D equilibria with RMP in MST\, Plasma Physics (Phy
 sics/ECE/NE 922) Seminar\, Stefano Munaretto\, UW Physics
DESCRIPTION:
URL:https://www.physics.wisc.edu/events/?id=3528
END:VEVENT
END:VCALENDAR
