BEGIN:VCALENDAR
VERSION:2.0
CALSCALE:GREGORIAN
PRODID:UW-Madison-Physics-Events
BEGIN:VEVENT
SEQUENCE:0
UID:UW-Physics-Event-3537
DTSTART:20141118T180000Z
DTEND:20141118T190000Z
DTSTAMP:20260419T161443Z
LAST-MODIFIED:20141118T150315Z
LOCATION:5280 Chamberlin Hall
SUMMARY:Advances and Future Directions of 3D Equilibrium Reconstructio
 n: Opportunities for MST\, Special Seminar Announcement\, Dr. Mark Cia
 ncosa\, Auburn Univerity
DESCRIPTION:
URL:https://www.physics.wisc.edu/events/?id=3537
END:VEVENT
END:VCALENDAR
