BEGIN:VCALENDAR
VERSION:2.0
CALSCALE:GREGORIAN
PRODID:UW-Madison-Physics-Events
BEGIN:VEVENT
SEQUENCE:0
UID:UW-Physics-Event-3540
DTSTART:20150106T220000Z
DTEND:20150106T230000Z
DTSTAMP:20260419T142839Z
LAST-MODIFIED:20141120T154207Z
LOCATION:4272 Chamberlin Hall
SUMMARY:Faculty Search Committee Meeting (Particle)\, Faculty Search C
 ommittee Meeting
DESCRIPTION:
URL:https://www.physics.wisc.edu/events/?id=3540
END:VEVENT
END:VCALENDAR
