BEGIN:VCALENDAR
VERSION:2.0
CALSCALE:GREGORIAN
PRODID:UW-Madison-Physics-Events
BEGIN:VEVENT
SEQUENCE:0
UID:UW-Physics-Event-3543
DTSTART:20141201T180000Z
DTEND:20141201T190000Z
DTSTAMP:20260419T171949Z
LAST-MODIFIED:20141201T150450Z
LOCATION:2535 Engineering Hall
SUMMARY:A retrospective on Dalton Schnack's contributions to plasma sc
 ience\, Plasma Physics (Physics/ECE/NE 922) Seminar\, Carl Sovinec\, U
 W
DESCRIPTION:
URL:https://www.physics.wisc.edu/events/?id=3543
END:VEVENT
END:VCALENDAR
